Package: UCell Version: 2.13.1 Command: F:\biocbuild\bbs-3.22-bioc\R\bin\R.exe CMD check --no-multiarch --install=check:UCell.install-out.txt --library=F:\biocbuild\bbs-3.22-bioc\R\library --no-vignettes --timings UCell_2.13.1.tar.gz StartedAt: 2025-07-15 07:43:56 -0400 (Tue, 15 Jul 2025) EndedAt: 2025-07-15 07:47:29 -0400 (Tue, 15 Jul 2025) EllapsedTime: 212.7 seconds RetCode: 0 Status: OK CheckDir: UCell.Rcheck Warnings: 0