Package: UCell Version: 2.13.1 Command: /Library/Frameworks/R.framework/Resources/bin/R CMD build --keep-empty-dirs --no-resave-data UCell StartedAt: 2025-07-20 17:52:28 -0400 (Sun, 20 Jul 2025) EndedAt: 2025-07-20 17:55:12 -0400 (Sun, 20 Jul 2025) EllapsedTime: 163.9 seconds RetCode: 0 Status: OK PackageFile: UCell_2.13.1.tar.gz PackageFileSize: 1.676 MiB