Package: UCSC.utils Version: 1.5.0 Command: F:\biocbuild\bbs-3.22-bioc\R\bin\R.exe CMD check --no-multiarch --install=check:UCSC.utils.install-out.txt --library=F:\biocbuild\bbs-3.22-bioc\R\library --no-vignettes --timings UCSC.utils_1.5.0.tar.gz StartedAt: 2025-07-12 07:38:00 -0400 (Sat, 12 Jul 2025) EndedAt: 2025-07-12 07:39:19 -0400 (Sat, 12 Jul 2025) EllapsedTime: 79.2 seconds RetCode: 0 Status: OK CheckDir: UCSC.utils.Rcheck Warnings: 0