Package: UCSC.utils Version: 1.5.0 Command: chmod a+r UCSC.utils -R && F:\biocbuild\bbs-3.22-bioc\R\bin\R.exe CMD build --keep-empty-dirs --no-resave-data UCSC.utils StartedAt: 2025-07-11 22:40:53 -0400 (Fri, 11 Jul 2025) EndedAt: 2025-07-11 22:41:14 -0400 (Fri, 11 Jul 2025) EllapsedTime: 20.6 seconds RetCode: 0 Status: OK PackageFile: UCSC.utils_1.5.0.tar.gz PackageFileSize: 230.6 KiB