Package: UCSC.utils Version: 1.5.0 Command: rm -rf UCSC.utils.buildbin-libdir && mkdir UCSC.utils.buildbin-libdir && F:\biocbuild\bbs-3.22-bioc\R\bin\R.exe CMD INSTALL --build --library=UCSC.utils.buildbin-libdir UCSC.utils_1.5.0.tar.gz StartedAt: 2025-07-12 10:06:13 -0400 (Sat, 12 Jul 2025) EndedAt: 2025-07-12 10:06:31 -0400 (Sat, 12 Jul 2025) EllapsedTime: 18.0 seconds RetCode: 0 Status: OK PackageFile: UCSC.utils_1.5.0.zip PackageFileSize: 286.6 KiB