Package: Trendy Version: 1.31.0 Command: /home/biocbuild/R/R/bin/R CMD check --install=check:Trendy.install-out.txt --library=/home/biocbuild/R/R/site-library --no-vignettes --timings Trendy_1.31.0.tar.gz StartedAt: 2025-07-08 11:56:39 -0000 (Tue, 08 Jul 2025) EndedAt: 2025-07-08 12:00:12 -0000 (Tue, 08 Jul 2025) EllapsedTime: 213.2 seconds RetCode: 0 Status: OK CheckDir: Trendy.Rcheck Warnings: 0