Package: Trendy Version: 1.31.0 Command: F:\biocbuild\bbs-3.22-bioc\R\bin\R.exe CMD INSTALL Trendy StartedAt: 2025-07-04 16:09:22 -0400 (Fri, 04 Jul 2025) EndedAt: 2025-07-04 16:09:56 -0400 (Fri, 04 Jul 2025) EllapsedTime: 33.6 seconds RetCode: 0 Status: OK