Package: Trendy Version: 1.31.0 Command: chmod a+r Trendy -R && F:\biocbuild\bbs-3.22-bioc\R\bin\R.exe CMD build --keep-empty-dirs --no-resave-data Trendy StartedAt: 2025-07-04 22:38:33 -0400 (Fri, 04 Jul 2025) EndedAt: 2025-07-04 22:40:56 -0400 (Fri, 04 Jul 2025) EllapsedTime: 143.6 seconds RetCode: 0 Status: OK PackageFile: Trendy_1.31.0.tar.gz PackageFileSize: 1.087 MiB