Package: Trendy Version: 1.31.0 Command: rm -rf Trendy.buildbin-libdir && mkdir Trendy.buildbin-libdir && F:\biocbuild\bbs-3.22-bioc\R\bin\R.exe CMD INSTALL --build --library=Trendy.buildbin-libdir Trendy_1.31.0.tar.gz StartedAt: 2025-07-07 10:00:46 -0400 (Mon, 07 Jul 2025) EndedAt: 2025-07-07 10:01:22 -0400 (Mon, 07 Jul 2025) EllapsedTime: 35.2 seconds RetCode: 0 Status: OK PackageFile: Trendy_1.31.0.zip PackageFileSize: 775.5 KiB