Package: Trendy Version: 1.31.0 Command: /Library/Frameworks/R.framework/Resources/bin/R CMD INSTALL Trendy StartedAt: 2025-07-07 15:45:26 -0400 (Mon, 07 Jul 2025) EndedAt: 2025-07-07 15:45:58 -0400 (Mon, 07 Jul 2025) EllapsedTime: 31.6 seconds RetCode: 0 Status: OK