Package: Trendy Version: 1.31.0 Command: /Library/Frameworks/R.framework/Resources/bin/R CMD check --install=check:Trendy.install-out.txt --library=/Library/Frameworks/R.framework/Resources/library --no-vignettes --timings Trendy_1.31.0.tar.gz StartedAt: 2025-07-08 00:11:42 -0400 (Tue, 08 Jul 2025) EndedAt: 2025-07-08 00:15:15 -0400 (Tue, 08 Jul 2025) EllapsedTime: 213.6 seconds RetCode: 0 Status: OK CheckDir: Trendy.Rcheck Warnings: 0