Package: Trendy Version: 1.31.0 Command: rm -rf Trendy.buildbin-libdir && mkdir Trendy.buildbin-libdir && /Users/biocbuild/BBS/utils/build-universal.sh Trendy_1.31.0.tar.gz /Library/Frameworks/R.framework/Resources/bin/R Trendy.buildbin-libdir StartedAt: 2025-07-08 01:21:04 -0400 (Tue, 08 Jul 2025) EndedAt: 2025-07-08 01:21:38 -0400 (Tue, 08 Jul 2025) EllapsedTime: 33.7 seconds RetCode: 0 Status: OK PackageFile: Trendy_1.31.0.tgz PackageFileSize: 767.8 KiB