Package: Trendy Version: 1.31.0 Command: /Library/Frameworks/R.framework/Resources/bin/R CMD INSTALL Trendy StartedAt: 2025-07-22 15:27:40 -0400 (Tue, 22 Jul 2025) EndedAt: 2025-07-22 15:27:50 -0400 (Tue, 22 Jul 2025) EllapsedTime: 9.6 seconds RetCode: 0 Status: OK