Package: TransView Version: 1.53.0 Command: /home/biocbuild/R/R/bin/R CMD INSTALL TransView StartedAt: 2025-07-21 20:38:17 -0000 (Mon, 21 Jul 2025) EndedAt: 2025-07-21 20:38:39 -0000 (Mon, 21 Jul 2025) EllapsedTime: 21.8 seconds RetCode: 0 Status: OK