Package: TransView Version: 1.53.0 Command: /home/biocbuild/R/R/bin/R CMD check --install=check:TransView.install-out.txt --library=/home/biocbuild/R/R/site-library --no-vignettes --timings TransView_1.53.0.tar.gz StartedAt: 2025-07-22 12:39:10 -0000 (Tue, 22 Jul 2025) EndedAt: 2025-07-22 12:41:15 -0000 (Tue, 22 Jul 2025) EllapsedTime: 125.2 seconds RetCode: 0 Status: OK CheckDir: TransView.Rcheck Warnings: 0