Package: TransView Version: 1.53.0 Command: /home/biocbuild/R/R/bin/R CMD build --keep-empty-dirs --no-resave-data TransView StartedAt: 2025-07-22 03:32:12 -0000 (Tue, 22 Jul 2025) EndedAt: 2025-07-22 03:32:43 -0000 (Tue, 22 Jul 2025) EllapsedTime: 31.0 seconds RetCode: 0 Status: OK PackageFile: TransView_1.53.0.tar.gz PackageFileSize: 1.868 MiB