Package: TransView Version: 1.53.0 Command: /home/biocbuild/bbs-3.22-bioc/R/bin/R CMD build --keep-empty-dirs --no-resave-data --md5 TransView StartedAt: 2025-07-04 19:32:06 -0400 (Fri, 04 Jul 2025) EndedAt: 2025-07-04 19:32:25 -0400 (Fri, 04 Jul 2025) EllapsedTime: 19.1 seconds RetCode: 1 Status: ERROR PackageFile: None PackageFileSize: NA