Package: TransView Version: 1.53.0 Command: /Library/Frameworks/R.framework/Resources/bin/R CMD build --keep-empty-dirs --no-resave-data TransView StartedAt: 2025-07-16 18:49:07 -0400 (Wed, 16 Jul 2025) EndedAt: 2025-07-16 18:49:44 -0400 (Wed, 16 Jul 2025) EllapsedTime: 36.6 seconds RetCode: 0 Status: OK PackageFile: TransView_1.53.0.tar.gz PackageFileSize: 1.823 MiB