Package: TransView Version: 1.53.0 Command: rm -rf TransView.buildbin-libdir && mkdir TransView.buildbin-libdir && /Users/biocbuild/BBS/utils/build-universal.sh TransView_1.53.0.tar.gz /Library/Frameworks/R.framework/Resources/bin/R TransView.buildbin-libdir StartedAt: 2025-07-17 01:23:37 -0400 (Thu, 17 Jul 2025) EndedAt: 2025-07-17 01:24:07 -0400 (Thu, 17 Jul 2025) EllapsedTime: 30.0 seconds RetCode: 0 Status: OK PackageFile: TransView_1.53.0.tgz PackageFileSize: 2.139 MiB