Package: TrajectoryGeometry Version: 1.17.0 Command: /Library/Frameworks/R.framework/Resources/bin/R CMD INSTALL TrajectoryGeometry StartedAt: 2025-07-15 15:21:40 -0400 (Tue, 15 Jul 2025) EndedAt: 2025-07-15 15:22:26 -0400 (Tue, 15 Jul 2025) EllapsedTime: 45.6 seconds RetCode: 0 Status: OK