Package: TrIdent Version: 1.1.4 Command: /home/biocbuild/R/R/bin/R CMD INSTALL TrIdent StartedAt: 2025-06-30 20:24:44 -0000 (Mon, 30 Jun 2025) EndedAt: 2025-06-30 20:25:21 -0000 (Mon, 30 Jun 2025) EllapsedTime: 37.9 seconds RetCode: 0 Status: OK