Package: TrIdent Version: 1.1.4 Command: /home/biocbuild/R/R/bin/R CMD build --keep-empty-dirs --no-resave-data TrIdent StartedAt: 2025-07-01 03:38:43 -0000 (Tue, 01 Jul 2025) EndedAt: 2025-07-01 03:39:56 -0000 (Tue, 01 Jul 2025) EllapsedTime: 73.0 seconds RetCode: 0 Status: OK PackageFile: TrIdent_1.1.4.tar.gz PackageFileSize: 1.362 MiB