Package: ToxicoGx Version: 2.13.0 Command: /Library/Frameworks/R.framework/Resources/bin/R CMD INSTALL ToxicoGx StartedAt: 2025-07-01 15:37:06 -0400 (Tue, 01 Jul 2025) EndedAt: 2025-07-01 15:37:54 -0400 (Tue, 01 Jul 2025) EllapsedTime: 47.4 seconds RetCode: 0 Status: OK