Package: TnT Version: 1.31.0 Command: /home/biocbuild/R/R/bin/R CMD INSTALL TnT StartedAt: 2025-06-30 20:31:53 -0000 (Mon, 30 Jun 2025) EndedAt: 2025-06-30 20:32:12 -0000 (Mon, 30 Jun 2025) EllapsedTime: 18.6 seconds RetCode: 0 Status: OK