Package: TnT Version: 1.31.0 Command: F:\biocbuild\bbs-3.22-bioc\R\bin\R.exe CMD INSTALL TnT StartedAt: 2025-07-21 15:47:35 -0400 (Mon, 21 Jul 2025) EndedAt: 2025-07-21 15:48:21 -0400 (Mon, 21 Jul 2025) EllapsedTime: 45.8 seconds RetCode: 0 Status: OK