Package: TnT Version: 1.31.0 Command: F:\biocbuild\bbs-3.22-bioc\R\bin\R.exe CMD check --no-multiarch --install=check:TnT.install-out.txt --library=F:\biocbuild\bbs-3.22-bioc\R\library --no-vignettes --timings TnT_1.31.0.tar.gz StartedAt: 2025-07-22 07:41:29 -0400 (Tue, 22 Jul 2025) EndedAt: 2025-07-22 07:43:31 -0400 (Tue, 22 Jul 2025) EllapsedTime: 122.7 seconds RetCode: 0 Status: OK CheckDir: TnT.Rcheck Warnings: 0