Package: TnT Version: 1.31.0 Command: rm -rf TnT.buildbin-libdir && mkdir TnT.buildbin-libdir && F:\biocbuild\bbs-3.22-bioc\R\bin\R.exe CMD INSTALL --build --library=TnT.buildbin-libdir TnT_1.31.0.tar.gz StartedAt: 2025-07-22 10:19:47 -0400 (Tue, 22 Jul 2025) EndedAt: 2025-07-22 10:20:25 -0400 (Tue, 22 Jul 2025) EllapsedTime: 38.0 seconds RetCode: 0 Status: OK PackageFile: TnT_1.31.0.zip PackageFileSize: 533.6 KiB