Package: TnT Version: 1.31.0 Command: /Library/Frameworks/R.framework/Resources/bin/R CMD INSTALL TnT StartedAt: 2025-06-30 15:16:37 -0400 (Mon, 30 Jun 2025) EndedAt: 2025-06-30 15:16:56 -0400 (Mon, 30 Jun 2025) EllapsedTime: 18.8 seconds RetCode: 0 Status: OK