Package: TnT Version: 1.31.0 Command: /Library/Frameworks/R.framework/Resources/bin/R CMD check --install=check:TnT.install-out.txt --library=/Library/Frameworks/R.framework/Resources/library --no-vignettes --timings TnT_1.31.0.tar.gz StartedAt: 2025-06-30 23:54:43 -0400 (Mon, 30 Jun 2025) EndedAt: 2025-06-30 23:56:31 -0400 (Mon, 30 Jun 2025) EllapsedTime: 107.6 seconds RetCode: 0 Status: OK CheckDir: TnT.Rcheck Warnings: 0