Package: TnT Version: 1.31.0 Command: rm -rf TnT.buildbin-libdir && mkdir TnT.buildbin-libdir && /Users/biocbuild/BBS/utils/build-universal.sh TnT_1.31.0.tar.gz /Library/Frameworks/R.framework/Resources/bin/R TnT.buildbin-libdir StartedAt: 2025-07-01 01:07:57 -0400 (Tue, 01 Jul 2025) EndedAt: 2025-07-01 01:08:19 -0400 (Tue, 01 Jul 2025) EllapsedTime: 22.1 seconds RetCode: 0 Status: OK PackageFile: TnT_1.31.0.tgz PackageFileSize: 531.6 KiB