Package: TnT Version: 1.31.0 Command: /Library/Frameworks/R.framework/Resources/bin/R CMD INSTALL TnT StartedAt: 2025-07-13 15:08:40 -0400 (Sun, 13 Jul 2025) EndedAt: 2025-07-13 15:08:46 -0400 (Sun, 13 Jul 2025) EllapsedTime: 6.0 seconds RetCode: 0 Status: OK