Package: TnT Version: 1.31.0 Command: /Library/Frameworks/R.framework/Resources/bin/R CMD build --keep-empty-dirs --no-resave-data TnT StartedAt: 2025-07-13 17:46:11 -0400 (Sun, 13 Jul 2025) EndedAt: 2025-07-13 17:46:20 -0400 (Sun, 13 Jul 2025) EllapsedTime: 9.1 seconds RetCode: 0 Status: OK PackageFile: TnT_1.31.0.tar.gz PackageFileSize: 230.4 KiB