Package: TnT Version: 1.31.0 Maintainer: Jialin Ma MaintainerEmail: marlin- at gmx.cn git_url: https://git.bioconductor.org/packages/TnT git_branch: devel git_last_commit: b17926d git_last_commit_date: 2025-04-15 13:39:20 -0400 (Tue, 15 Apr 2025)