Package: TitanCNA Version: 1.47.0 Command: /home/biocbuild/R/R/bin/R CMD INSTALL TitanCNA StartedAt: 2025-07-17 21:01:08 -0000 (Thu, 17 Jul 2025) EndedAt: 2025-07-17 21:02:04 -0000 (Thu, 17 Jul 2025) EllapsedTime: 55.4 seconds RetCode: 0 Status: OK