Package: TitanCNA Version: 1.47.0 Command: /home/biocbuild/R/R/bin/R CMD build --keep-empty-dirs --no-resave-data TitanCNA StartedAt: 2025-07-18 03:40:51 -0000 (Fri, 18 Jul 2025) EndedAt: 2025-07-18 03:42:30 -0000 (Fri, 18 Jul 2025) EllapsedTime: 99.0 seconds RetCode: 1 Status: ERROR PackageFile: None PackageFileSize: NA