Package: TissueEnrich Version: 1.29.0 Command: /home/biocbuild/R/R/bin/R CMD build --keep-empty-dirs --no-resave-data TissueEnrich StartedAt: 2025-06-27 03:16:57 -0000 (Fri, 27 Jun 2025) EndedAt: 2025-06-27 03:18:00 -0000 (Fri, 27 Jun 2025) EllapsedTime: 63.1 seconds RetCode: 0 Status: OK PackageFile: TissueEnrich_1.29.0.tar.gz PackageFileSize: 3.383 MiB