Package: TissueEnrich Version: 1.29.0 Command: F:\biocbuild\bbs-3.22-bioc\R\bin\R.exe CMD check --no-multiarch --install=check:TissueEnrich.install-out.txt --library=F:\biocbuild\bbs-3.22-bioc\R\library --no-vignettes --timings TissueEnrich_1.29.0.tar.gz StartedAt: 2025-07-14 07:32:16 -0400 (Mon, 14 Jul 2025) EndedAt: 2025-07-14 07:36:26 -0400 (Mon, 14 Jul 2025) EllapsedTime: 249.5 seconds RetCode: 0 Status: OK CheckDir: TissueEnrich.Rcheck Warnings: 0