Package: TissueEnrich Version: 1.29.0 Command: rm -rf TissueEnrich.buildbin-libdir && mkdir TissueEnrich.buildbin-libdir && F:\biocbuild\bbs-3.22-bioc\R\bin\R.exe CMD INSTALL --build --library=TissueEnrich.buildbin-libdir TissueEnrich_1.29.0.tar.gz StartedAt: 2025-07-12 10:03:23 -0400 (Sat, 12 Jul 2025) EndedAt: 2025-07-12 10:03:59 -0400 (Sat, 12 Jul 2025) EllapsedTime: 35.6 seconds RetCode: 0 Status: OK PackageFile: TissueEnrich_1.29.0.zip PackageFileSize: 3.363 MiB