Package: TissueEnrich Version: 1.29.0 Command: /Library/Frameworks/R.framework/Resources/bin/R CMD INSTALL TissueEnrich StartedAt: 2025-10-03 15:16:10 -0400 (Fri, 03 Oct 2025) EndedAt: 2025-10-03 15:16:23 -0400 (Fri, 03 Oct 2025) EllapsedTime: 12.1 seconds RetCode: 0 Status: OK