Package: TissueEnrich Version: 1.29.0 Command: /Library/Frameworks/R.framework/Resources/bin/R CMD build --keep-empty-dirs --no-resave-data TissueEnrich StartedAt: 2025-10-05 18:00:41 -0400 (Sun, 05 Oct 2025) EndedAt: 2025-10-05 18:01:04 -0400 (Sun, 05 Oct 2025) EllapsedTime: 22.3 seconds RetCode: 0 Status: OK PackageFile: TissueEnrich_1.29.0.tar.gz PackageFileSize: 3.606 MiB