Package: TissueEnrich Version: 1.29.0 Command: rm -rf TissueEnrich.buildbin-libdir && mkdir TissueEnrich.buildbin-libdir && /Users/biocbuild/BBS/utils/build-universal.sh TissueEnrich_1.29.0.tar.gz /Library/Frameworks/R.framework/Resources/bin/R TissueEnrich.buildbin-libdir StartedAt: 2025-10-05 23:02:29 -0400 (Sun, 05 Oct 2025) EndedAt: 2025-10-05 23:02:43 -0400 (Sun, 05 Oct 2025) EllapsedTime: 13.3 seconds RetCode: 0 Status: OK PackageFile: TissueEnrich_1.29.0.tgz PackageFileSize: 3.629 MiB