Package: TaxSEA Version: 1.1.3 Command: /home/biocbuild/R/R/bin/R CMD INSTALL TaxSEA StartedAt: 2025-07-21 20:23:54 -0000 (Mon, 21 Jul 2025) EndedAt: 2025-07-21 20:24:23 -0000 (Mon, 21 Jul 2025) EllapsedTime: 29.7 seconds RetCode: 0 Status: OK