Package: TaxSEA Version: 1.1.3 Command: /home/biocbuild/R/R/bin/R CMD check --install=check:TaxSEA.install-out.txt --library=/home/biocbuild/R/R/site-library --no-vignettes --timings TaxSEA_1.1.3.tar.gz StartedAt: 2025-07-22 12:24:53 -0000 (Tue, 22 Jul 2025) EndedAt: 2025-07-22 12:25:32 -0000 (Tue, 22 Jul 2025) EllapsedTime: 39.1 seconds RetCode: 0 Status: OK CheckDir: TaxSEA.Rcheck Warnings: 0