Package: TaxSEA Version: 1.1.3 Command: /home/biocbuild/R/R/bin/R CMD build --keep-empty-dirs --no-resave-data TaxSEA StartedAt: 2025-07-22 03:22:25 -0000 (Tue, 22 Jul 2025) EndedAt: 2025-07-22 03:22:40 -0000 (Tue, 22 Jul 2025) EllapsedTime: 15.0 seconds RetCode: 0 Status: OK PackageFile: TaxSEA_1.1.3.tar.gz PackageFileSize: 341.6 KiB