Package: TaxSEA Version: 1.1.3 Command: chmod a+r TaxSEA -R && F:\biocbuild\bbs-3.22-bioc\R\bin\R.exe CMD build --keep-empty-dirs --no-resave-data TaxSEA StartedAt: 2025-07-24 22:45:50 -0400 (Thu, 24 Jul 2025) EndedAt: 2025-07-24 22:46:16 -0400 (Thu, 24 Jul 2025) EllapsedTime: 26.5 seconds RetCode: 0 Status: OK PackageFile: TaxSEA_1.1.3.tar.gz PackageFileSize: 317.7 KiB