Package: TaxSEA Version: 1.1.2 Command: /home/biocbuild/bbs-3.22-bioc/R/bin/R CMD INSTALL TaxSEA StartedAt: 2025-06-29 15:08:19 -0400 (Sun, 29 Jun 2025) EndedAt: 2025-06-29 15:08:38 -0400 (Sun, 29 Jun 2025) EllapsedTime: 18.6 seconds RetCode: 0 Status: OK