Package: TaxSEA Version: 1.1.2 Command: /home/biocbuild/bbs-3.22-bioc/R/bin/R CMD build --keep-empty-dirs --no-resave-data --md5 TaxSEA StartedAt: 2025-06-29 19:29:54 -0400 (Sun, 29 Jun 2025) EndedAt: 2025-06-29 19:30:05 -0400 (Sun, 29 Jun 2025) EllapsedTime: 11.0 seconds RetCode: 0 Status: OK PackageFile: TaxSEA_1.1.2.tar.gz PackageFileSize: 318 KiB