Package: TaxSEA Version: 1.1.2 Command: /Library/Frameworks/R.framework/Resources/bin/R CMD INSTALL TaxSEA StartedAt: 2025-07-14 15:16:05 -0400 (Mon, 14 Jul 2025) EndedAt: 2025-07-14 15:16:33 -0400 (Mon, 14 Jul 2025) EllapsedTime: 28.1 seconds RetCode: 0 Status: OK