Package: TaxSEA Version: 1.1.3 Command: /Library/Frameworks/R.framework/Resources/bin/R CMD check --install=check:TaxSEA.install-out.txt --library=/Library/Frameworks/R.framework/Resources/library --no-vignettes --timings TaxSEA_1.1.3.tar.gz StartedAt: 2025-07-17 23:59:57 -0400 (Thu, 17 Jul 2025) EndedAt: 2025-07-18 00:00:42 -0400 (Fri, 18 Jul 2025) EllapsedTime: 44.8 seconds RetCode: 1 Status: ERROR CheckDir: TaxSEA.Rcheck Warnings: NA