Package: TaxSEA Version: 1.1.2 Command: rm -rf TaxSEA.buildbin-libdir && mkdir TaxSEA.buildbin-libdir && /Users/biocbuild/BBS/utils/build-universal.sh TaxSEA_1.1.2.tar.gz /Library/Frameworks/R.framework/Resources/bin/R TaxSEA.buildbin-libdir StartedAt: 2025-07-15 01:24:16 -0400 (Tue, 15 Jul 2025) EndedAt: 2025-07-15 01:24:20 -0400 (Tue, 15 Jul 2025) EllapsedTime: 4.6 seconds RetCode: 0 Status: OK PackageFile: TaxSEA_1.1.2.tgz PackageFileSize: 336.1 KiB